BEGIN:VCALENDAR
VERSION:2.0
PRODID:-//jugendtreff-in-riege.de - ECPv6.15.20//NONSGML v1.0//EN
CALSCALE:GREGORIAN
METHOD:PUBLISH
X-WR-CALNAME:jugendtreff-in-riege.de
X-ORIGINAL-URL:https://jugendtreff-in-riege.de
X-WR-CALDESC:Veranstaltungen für jugendtreff-in-riege.de
REFRESH-INTERVAL;VALUE=DURATION:PT1H
X-Robots-Tag:noindex
X-PUBLISHED-TTL:PT1H
BEGIN:VTIMEZONE
TZID:Europe/Berlin
BEGIN:DAYLIGHT
TZOFFSETFROM:+0100
TZOFFSETTO:+0200
TZNAME:CEST
DTSTART:20230326T010000
END:DAYLIGHT
BEGIN:STANDARD
TZOFFSETFROM:+0200
TZOFFSETTO:+0100
TZNAME:CET
DTSTART:20231029T010000
END:STANDARD
BEGIN:DAYLIGHT
TZOFFSETFROM:+0100
TZOFFSETTO:+0200
TZNAME:CEST
DTSTART:20240331T010000
END:DAYLIGHT
BEGIN:STANDARD
TZOFFSETFROM:+0200
TZOFFSETTO:+0100
TZNAME:CET
DTSTART:20241027T010000
END:STANDARD
BEGIN:DAYLIGHT
TZOFFSETFROM:+0100
TZOFFSETTO:+0200
TZNAME:CEST
DTSTART:20250330T010000
END:DAYLIGHT
BEGIN:STANDARD
TZOFFSETFROM:+0200
TZOFFSETTO:+0100
TZNAME:CET
DTSTART:20251026T010000
END:STANDARD
END:VTIMEZONE
BEGIN:VEVENT
DTSTART;TZID=Europe/Berlin:20240502T163000
DTEND;TZID=Europe/Berlin:20240502T183000
DTSTAMP:20260422T071832
CREATED:20240413T112557Z
LAST-MODIFIED:20240419T115529Z
UID:310-1714667400-1714674600@jugendtreff-in-riege.de
SUMMARY:Basteln für Muttertag
DESCRIPTION:
URL:https://jugendtreff-in-riege.de/event/basteln-fuer-muttertag-2/
LOCATION:NRW
END:VEVENT
BEGIN:VEVENT
DTSTART;VALUE=DATE:20240509
DTEND;VALUE=DATE:20240510
DTSTAMP:20260422T071832
CREATED:20240413T112717Z
LAST-MODIFIED:20240413T112717Z
UID:312-1715212800-1715299199@jugendtreff-in-riege.de
SUMMARY:Christi Himmelfahrt - kein Jugendtreff
DESCRIPTION:
URL:https://jugendtreff-in-riege.de/event/christi-himmelfahrt-kein-jugendtreff-2/
LOCATION:NRW
CATEGORIES:Feiertag
END:VEVENT
BEGIN:VEVENT
DTSTART;TZID=Europe/Berlin:20240516T163000
DTEND;TZID=Europe/Berlin:20240516T183000
DTSTAMP:20260422T071832
CREATED:20240413T112845Z
LAST-MODIFIED:20240419T115557Z
UID:314-1715877000-1715884200@jugendtreff-in-riege.de
SUMMARY:offener Treff
DESCRIPTION:
URL:https://jugendtreff-in-riege.de/event/offener-treff-20/
LOCATION:Pfarrheim Riege\, Junkernallee 16\, Hövelhof Riege\, NRW\, 33161\, Deutschland
END:VEVENT
BEGIN:VEVENT
DTSTART;VALUE=DATE:20240521
DTEND;VALUE=DATE:20240522
DTSTAMP:20260422T071832
CREATED:20231222T152749Z
LAST-MODIFIED:20231222T152749Z
UID:264-1716249600-1716335999@jugendtreff-in-riege.de
SUMMARY:Pfingsferien
DESCRIPTION:
URL:https://jugendtreff-in-riege.de/event/pfingsferien/
LOCATION:NRW
CATEGORIES:Ferien
END:VEVENT
BEGIN:VEVENT
DTSTART;TZID=Europe/Berlin:20240523T163000
DTEND;TZID=Europe/Berlin:20240523T183000
DTSTAMP:20260422T071832
CREATED:20240413T113133Z
LAST-MODIFIED:20240419T115614Z
UID:316-1716481800-1716489000@jugendtreff-in-riege.de
SUMMARY:offener Treff
DESCRIPTION:
URL:https://jugendtreff-in-riege.de/event/offener-treff-21/
LOCATION:Pfarrheim Riege\, Junkernallee 16\, Hövelhof Riege\, NRW\, 33161\, Deutschland
END:VEVENT
BEGIN:VEVENT
DTSTART;VALUE=DATE:20240530
DTEND;VALUE=DATE:20240531
DTSTAMP:20260422T071832
CREATED:20240413T113258Z
LAST-MODIFIED:20240413T113258Z
UID:318-1717027200-1717113599@jugendtreff-in-riege.de
SUMMARY:Fronleichnam - kein Jugendtreff
DESCRIPTION:
URL:https://jugendtreff-in-riege.de/event/fronleichnam-kein-jugendtreff-2/
LOCATION:NRW
END:VEVENT
END:VCALENDAR